Workbook

Sheet Instructivo
C1: ASEGURAMIENTO SANITARIO | H1: REGISTROS SANITARIOS Y TRAMITES ASOCIADOS
C2: FORMATO ÚNICO DE ALIMENTOS REGISTROS SANITARIOS o PERMISO SANITARIO o NOTIFICACIÓN SANITARIA Y TRAMITES ASOCIADOS (Resolución 2674 de 2013, Resolución 3168 de 2015)
C3: Código: ASS-RSA-FM099 | G3: Versión: 08 | I3: Fecha de Emisión: 2024-06-30
A5: INSTRUCTIVO TRAMITES
A6: La información que se encuentra en este instructivo es explicativa de algunas casillas de los formularios identificados con números referidos a nota de pie.
A7: 1 | B7: Documento de identidad : Indicar el número de Cédula de ciudadanía, cédula de extranjería, NIT, Matricula mercantil, etc. según corresponda.
A8: 2 | B8: Transacción Bancaria: Se realiza a través de la plataforma Trámites en línea - Pagos PSE.
A9: 3 | B9: Código de la tarifa: Verifique el valor según corresponda al trámite y condición del mismo, el cual se encuentra publicado en el app https://app.invima.gov.co/oficina_virtual documento Manual Tarifario
A10: 4 | B10: Poder: Si realiza su trámite a través de un apoderado, presente el correspondiente poder otorgado a un abogado (este debe ser con presentación personal ante notario. Si es otorgado en el exterior debe traer sello de apostille ó estar consularizado y refrendado ante el Ministerio de Relaciones Exteriores).
A11: 5 | B11: Modalidad: El registro sanitario, permiso sanitario o notificación sanitaria se otorga para: fabricar y vender, fabricar, envasar y vender; envasar y vender; importar y vender; importar, envasar y vender (acorde al artículo 45 de la Resolución 2674 de 2013)
A12: 6 | B12: Nombre del producto: Enuncie el nombre del producto de conformidad con lo establecido en el numeral 5.1 de la Resolución 5109 de 2005 del Ministerio de Protección Social. Si el producto tiene normatividad específica, debe indicar el nombre establecido en la misma
B13: Si realiza declaraciones nutricionales, consulte la Resolución 333 de 2011 o Resolución 810 de 2021 del Ministerio de Protección Social o norma que la modifique y aporte la información técnica que sustente dicha declaración.
A14: 7 | B14: Composición:
B15: - Relacione todos los ingredientes en orden decreciente de peso inicial (m/m) en el momento de la fabricación del alimento, funcionalidad de los aditivos alimentarios y concentraciones de los mismos (dosis máxima de uso DMU) en conformidad con las reglamentaciones vigentes, declare los aditivos con nombre genérico y específico.
B16: - Si el producto contiene un ingrediente compuesto indique la composición de éste entre paréntesis y en orden decreciente de peso inicial (m/m), con los aditivos alimentarios y su DMU (Dosis Máxima de Uso) si los contiene. Si el ingrediente compuesto tiene un nombre establecido en la legislación sanitaria vigente y constituye menos del 5% del alimento, declare únicamente los aditivos que cumplen una función tecnológica en el producto terminado.
B17: - No declare el agua u otros ingredientes volátiles que se evaporan durante la fabricación.
B18: - Para alimentos con declaraciones de propiedades nutricionales, propiedades de salud o declaración de nutrientes, tenga en cuenta la Resolución 333 de 2011 o la Resolución 810 de 2021 (a partir del 16 de diciembre de 2022), aportando información técnica (reportes analíticos) que los sustente.
B19: - Aporte composición cuantitativa para: Fórmulas para lactantes, alimentos enriquecidos, adicionados o fortificados, Bebidas Energizantes, Bebidas hidratantes y productos que contengan cafeína.
B20: NOTA:
B21: Los productos que presentan normatividad especifica deberán cumplir con los lineamientos establecidos por la norma, disposiciones sanitarias aplicables, tenga en cuenta los conceptos emitidos por la Comisión Revisora de la Sala Especializada de Alimentos y Bebidas.
B22: Los productos de que se categoricen como Alimentos de Propositos Médicos Especiales, deberán recibir su aprobación previa por parte de la Comisión Revisora de la Sala Especializada de Alimentos y Bebidas del INVIMA
A23: 8 | B23: Tipo y material de envase: Enuncie el tipo de envase por ejemplo: Botella, bolsa, envoltura, caja y el material de empaque y/o envase para lo cual debe consultar los reglamentos aplicables establecidos en la Resolución 683 de 2012, 4142 de 2012, 4143 de 2012.
A24: 9 | B24: Presentaciones comerciales: Declare en unidades del sistema Internacional de medidas el contenido del producto a comercializar en unidades de peso o volumen dependiendo del tipo de alimento (consulte el numeral 5.3 de la Resolución 5109 de 2005). Si el producto contiene líquido de cobertura declare peso neto y peso escurrido.
A25: 10 | B25: Presentaciones conjuntas de producto: Empaque secundario que contiene dos o más unidades de productos en empaque primario de diferente naturaleza, preenvasados individualmente y rotulados conjuntamente (tienen un único rotulado que relaciona los alimentos que lo componen), los cuales se complementan o mezclan para su consumo. Si esta presentación se comercializa durante la vigencia del registro, permiso o notificación deberá solicitar modificación al registro incluyendo esta variedad y en caso de ser temporalmente deberá solicitar el trámite de autorización.
A26: 11 | B26: Condiciones de Conservación: Indique las condiciones de conservación y almacenamiento del producto, que garantizan la vida útil estimada para el mismo, temperaturas de conservación.
A27: 12 | B27: Proceso de tratamiento (Procesamiento/ Elaboración): Enuncie el procesamiento del producto alimenticio, bien sea en forma descriptiva o a través de diagrama de flujo.
A28: 13 | B28: Vida Util de producto: Indique el tiempo de vida útil del producto y la forma en que se declarará su fecha de vencimiento
A29: 14 | B29: Declaraciones Nutricionales: Los valores de nutrientes que fundamenten las declaraciones de propiedades nutricionales o de salud deben ser sustentadas mediante la presentación de reporte analítico según numeral 8,4,2, de la Resolución 333 de 2011 o numeral 10.5 de la Resolución 810 de 2021 a partir del 16 de diciembre de 2022. Información de Rotulado Nutricional: Los valores de los nutrientes que figuren en la tabla de información nutricional deben ser valores promedios obtenidos de análisis de muestras o valores de una muestra que sean representativas del producto que ha de ser rotulado o etiquetado o tomados de la Tabla de Composición de Alimentos Colombianos deIICBF, o de publicaciones internacionales, o de otras fuentes de información tales como, especificaciones del contenido nutricional de ingredientes utilizados en la formulación del producto
A30: 15 | B30: Existencia y Representación Legal: El titular, fabricante, envasador o empacador e importador nacional, deberá encontrarse inscrito ante Comfecamaras, bien sea como persona jurídica o natural tanto para el titular, fabricante, empacador o importador, situación que se verificará por parte de los funcionarios en la base de datos que reposa en el RUES. "Nota: Se exceptúan de este requisito los fabricantes en el extranjero"
A31: 16 | B31: Certificado de Venta Libre (CVL) (Aplica para productos importados ): Este documento debe ser expedido por la autoridad sanitaria competente del país de origen, en el cual consta que el producto se vende libremente en ese país, es apto para el consumo humano y que el fabricante cumple con las normas sanitarias exigidas en ese país, con el respectivo sello de apostille o en su defecto sello de consularización (se hace en el país de origen) y legalización (se hace en el Ministerio de Relaciones Exteriores en Colombia). Si el documento proviene del exterior en idioma diferente al castellano, adicionalmente se debe adjuntar traducción oficial conforme con lo establecido en el Articulo 251 del Código General del Proceso. Tenga en cuenta que el certificado debe estar vigente al momento de la radicación.
A32: 17 | B32: Carta de autorización del fabricante al importador (Aplica para productos importados):En este documento se debe declarar que el fabricante AUTORIZA al importador para importar y comercializar productos alimenticios en Colombia, por otra parte en caso de que un tercero diferente al fabricante sea el titular del registro sanitario, permiso sanitario o notificación sanitaria, este documento deberá informar en forma expresa que AUTORIZA para importar y comercializar el producto en Colombia
A33: 18 | B33: Suscripcion del documento: El formulario deberá estar suscrito por el representante legal cuando se trate de persona jurídica o por el propietario del establecimiento de comercio cuando se trate de persona natural, o el respectivo apoderado legalmente constituido. La ficha técnica debe estar firmada por la persona responsable del producto.
A34: 19 | B34: Contrato de cesión: Documento suscrito por el Cesionario y el cedente debiendo aparecer claramente determinando el nombre del producto, número del registro sanitario, marca y expediente; además debe estar suscrito por las partes que intervienen en la cesión con la debida presentación ante notario.
... A48: 33 | B48: Comercialización productos SIN PROCESO DE TRANSFORMACIÓN con fines de EXPORTACION: Documento expedido por el Invima, que certifica que el producto se encuentra exento de Registro Sanitario, Permiso sanitario o Notificación Sanitaria (Según Articulo 37 de la Resolución 2674 de 2013) se comercializa en Colombia y se exporta a otros países.
B49: NOTA: Si requiere que el documento expedido se declare con el texto "certificación de libre venta para productos que no presentan obligatoriedad de registro sanitario o permiso sanitario, o notificación sanitaria de alimentos con fines de exportación" deberá solicitarlo a través del Memorial.
A50: 34 | B50: Comercialización de productos transformados con FINES DE EXPORTACION : Documento expedido por el Invima, que comunica que el producto no será comercializado en Colombia si no fuera del país.
B51: NOTA: Si requiere que el documento expedido se declare con el texto "certificación de libre venta para productos que no presentan obligatoriedad de registro sanitario o permiso sanitario, o notificación sanitaria de alimentos con fines de exportación" deberá solicitarlo a través del Memorial.
A52: 35 | B52: Certificación de No obligatoriedad según Ley 915 de 204: Documento expedido por el Invima únicamente para aquellos productos elaborados o importados que se comercialicen en el Archipielago de San Andrés - Islas.
A53: 36 | B53: Código de Inscripción de la fábrica: La fábrica deberá estar inscrita ante el Invima acorde a lo estipulado en el artículo 50 de la Resolución 2674 de 2013, en el cual se asignará un código a la planta de fabricación, en caso que no se haya realizado la inscripción deberá realizarse a traves de la plataforma de inscripción publicada en el app Oficina virtual
A54: 37 | B54: Modificación Automática Legal: Este tipo de trámite se concede únicamente para cambios relacinados con el nombre o razón social, dirección, domicilio, cesiones, adiciones o exclusiones de titulares, fabricantes, envasadores e importadores, o modalidad del Registro, Permiso o Notificación Sanitaria según lo establecido en la Resolución 2674 de 2013 modificada por la resolución 3168 de 2016.
...

Sheet Información Básica
C1: =Instructivo!C1 -> ASEGURAMIENTO SANITARIO | I1: =Instructivo!H1 -> REGISTROS SANITARIOS Y TRAMITES ASOCIADOS | M1: √
C2: =Instructivo!C2 -> FORMATO ÚNICO DE ALIMENTOS REGISTROS SANITARIOS o PERMISO SANITARIO o NOTIFICACIÓN SANITARIA Y TRAMITES ASOCIADOS (Resolución 2674 de 2013, Resolución 3168 de 2015)
C3: =Instructivo!C3 -> Código: ASS-RSA-FM099 | H3: =Instructivo!G3 -> Versión: 08 | J3: =Instructivo!I3 -> Fecha de Emisión: 2024-06-30
A5: FORMULARIO DE INFORMACION BASICA
A6: (Obligatorio para todos los trámites)
A7: Para mayor información consulte el Formato "Instructivo" para facilitar el diligenciamiento de este formulario
A8: AUTORIZO AL INVIMA A REALIZAR LA NOTIFICACIÓN DE MANERA ELECTRÓNICA DE ACUERDO CON LOS ARTÍCULOS 54 Y 56 DE LA LEY 1437 DE 2011 AL CORREO ELECTRÓNICO SUMINISTRADO EN ESTE FORMULARIO
C11: Correo electrónico de notificación:
A13: Ver condiciones
A15: RECUERDE QUE:
A16: DEBERÁ ALLEGAR LA INFORMACIÓN EN FISICO Y EN MEDIO MAGNETICO (CD) EN FORMATO WORD Y/O EXCELL EDITABLE
A17: AVISO IMPORTANTE: Diligencie el correo electrónico activo en el campo establecido; sin esta información no se podrá radicar el trámite.
A18: Presente su documentación legajada en carpeta de color blanco, los formularios debe venir sin tachaduras ni enmendaduras y debidamente foliada (numerada).
A19: Si requiere presentar información mediante anexos, indique el número de folios.
A20: Diligencie los formularios con letra clara y legible con tinta de color negro, en computador o máquina de escribir en los espacios sombreados | P20: ANTIOQUIA
A21: Tenga en cuenta que algunos campos tienen listas desplegables para selección. | P21: ATLANTICO
A22: 1. DATOS GENERALES DEL TITULAR | P22: BOGOTA
A23: Nombre o razón social: | P23: BOLIVAR
A24: Documento de Identidad: | E24: NIT | H24: Nº: | P24: BOYACA
A25: Dirección: | H25: Ciudad: | P25: CALDAS
A26: Departamento: | C26: BOGOTA | H26: Pais: | P26: CAQUETA
A27: Calidad del Responsable: | H27: Nombre: | P27: CAUCA
A28: Nº Cédula de Ciudadanía: | G28: Nº Cédula de Extranjeria: | P28: CESAR
A29: Dirección para de correspondencia: | P29: CORDOBA
A30: Ciudad: | F30: Departamento: | P30: CUNDINAMARCA
A31: Email (24) | H31: Teléfono(s): | P31: CHOCO
A32: 2. DATOS DEL RESPONSABLE DE LA TRANSACCION BANCARIA (2) | P32: HUILA
A33: Nombre o razón social: | P33: LA GUAJIRA
A34: Dirección: | H34: Documento de identidad (1) | P34: MAGDALENA
A35: Departamento: | E35: Ciudad: | H35: Teléfono(s): | P35: META
A36: 3. TIPO DE TRAMITE: (Seleccione con una X en la casilla que corresponda) | P36: ARAUCA
C37: Registro Sanitario Nuevo (30) | H37: Renovación del Registro Sanitario | P37: CASANARE
C38: Permiso Sanitario nuevo (29) | H38: Renovación del Permiso Sanitario | P38: PUTUMAYO
C39: Notificación sanitaria Nuevo (28) | H39: Renovación de la Notificación Sanitaria | P39: SAN ANDRES
C40: Autorización | H40: Desglose de documentos | P40: AMAZONAS
C41: Modificación Automática Legal | H41: Pérdida de fuerza ejecutoria | P41: GUAINIA
C42: Modificación Automática Técnica | H42: Anexo Formato Ficha Técnica | P42: GUAVIARE
C43: Certificaciones | P43: VAUPES
P44: VICHADA
A45: Código de tarifa (3) | H45: Valor ($): | P45: NARIÑO
...

Sheet Notificacion Electrónica
C1: =+Instructivo!C1 -> ASEGURAMIENTO SANITARIO | H1: =+Instructivo!H1 -> REGISTROS SANITARIOS Y TRAMITES ASOCIADOS
C2: =Instructivo!C2 -> FORMATO ÚNICO DE ALIMENTOS REGISTROS SANITARIOS o PERMISO SANITARIO o NOTIFICACIÓN SANITARIA Y TRAMITES ASOCIADOS (Resolución 2674 de 2013, Resolución 3168 de 2015)
C3: =Instructivo!C3 -> Código: ASS-RSA-FM099 | G3: =Instructivo!G3 -> Versión: 08 | I3: =Instructivo!I3 -> Fecha de Emisión: 2024-06-30
G5: FORMATO ÚNICO PARA NOTIFICACION ELECTRONICA DE SOLICITUDES DE EXPEDICIÓN O RENOVACIÓN
G6: DE REGISTRO SANITARIO PARA ALIMENTOS Y BEBIDAS
A8: “Los datos personales suministrados en el presente formulario serán tratados conforme a la “política de tratamiento y protección de datos personales GDI-DIE-PL018"
A10: Respetado Usuario: La Notificación es el medio a través del cual se ponen en conocimiento del interesado los actos de carácter particular. Tiene como finalidad garantizar el conocimiento de las actuaciones administrativas y de su desarrollo de tal forma que se garanticen los principios de publicidad y contradicción La ley 1437 de 2011 “Por la cual se expide el Código de Procedimiento Administrativo y de lo Contencioso Administrativo”, en su artículo 56 señala que las autoridades podrán notificar sus actos a través de medios electrónicos, siempre que el administrado haya aceptado este medio de notificación, agregando, que la notificación quedará surtida a partir de la fecha y hora en que el administrado acceda al acto administrativo, fecha y hora que deberá certificar la administración. Por otra parte, a través del Decreto 2693 de 2012 "Por el cual se establecen los lineamientos generales de la estrategia de Gobierno en línea de la República de Colombia, se reglamentan parcialmente las Leyes 1341 de 2009 y 1450 de 2011, y se dictan otras disposiciones" se busca el máximo aprovechamiento de las Tecnologías de la Información y las Comunicaciones, con el fin de contribuir con la construcción de un Estado más eficiente, más transparente y participativo y que preste mejores servicios con la colaboración de toda la sociedad. Con el propósito de efectivizar este mandato legal y dar cumplimiento a las normativas señaladas, el Invima viene implementando el sistema de notificación electrónica de los actos administrativos, a través del cual se pretende agilizar el trámite de las actuaciones administrativas, prestando de esta manera un mejor y más eficiente servicio a los usuarios, en la medida que no tienen que desplazarse hasta la entidad a conocer las decisiones que se adelantan dentro del trámite. Términos y condiciones de uso de la notificación electrónica: Si usted en calidad de usuario suscribe el presente documento aceptando ser notificado a través de correo electrónico, conoce y acepta además las siguientes condiciones de uso: • Usted suministra a la administración una dirección de correo electrónico (a la cual desea le sean remitidos los correos de notificación), la cual se presume propia y utilizada directamente por usted, por lo que en ningún caso podrá alegar con posterioridad el desconocimiento de los actos notificados por operaciones en el buzón delegadas a terceros. • El Invima envía a la dirección electrónica suministrada una comunicación mediante la cual remite el acto administrativo adjuntando el documento en formato PDF. • Los términos de interposición de recursos y de ejecutoria del acto administrativo se empezarán a contar a partir del día siguiente en que el mensaje electrónico haya sido dispuesto en la bandeja de entrada del correo del usuario. • Obligaciones del usuario: - Revisar continuamente y de manera directa su correo electrónico. - Informar a la Entidad de forma escrita o por el correo electrónico correccionemail@invima.gov.co del INVIMA, cuando decida cambiar la dirección electrónica registrada, debe indicar el número del radicado y el nuevo correo electrónico. Este requerimiento lo debe solicitar el representante legal o apoderado del mismo. - Informar de manera inmediata al Instituto cualquier inconveniente relacionado con la recepción o apertura del correo o documento mediante el cual se realiza la notificación electrónica. En tal caso el error o defecto deberá reportarse al correo ayudavirtual@invima.gov.co indicando el inconveniente y reenviando el mensaje de datos remitido por la entidad.

Sheet Solicitud Registro Sanitario
C1: =Instructivo!C1 -> ASEGURAMIENTO SANITARIO | I1: =Instructivo!H1 -> REGISTROS SANITARIOS Y TRAMITES ASOCIADOS | O1: √
C2: =Instructivo!C2 -> FORMATO ÚNICO DE ALIMENTOS REGISTROS SANITARIOS o PERMISO SANITARIO o NOTIFICACIÓN SANITARIA Y TRAMITES ASOCIADOS (Resolución 2674 de 2013, Resolución 3168 de 2015)
C3: =Instructivo!C3 -> Código: ASS-RSA-FM099 | H3: =Instructivo!G3 -> Versión: 08 | J3: =Instructivo!I3 -> Fecha de Emisión: 2024-06-30
A6: FORMULARIO DE EXPEDICION DE REGISTRO SANITARIO O PERMISO SANITARIO O NOTIFICACION SANITARIA FORMULARIO UNICO DE RENOVACION DE PRODUCTOS ALIMENTICIOS
A8: RECUERDE QUE:
A9: DEBERÁ ALLEGAR LA INFORMACIÓN EN FISICO Y EN MEDIO MAGNETICO (CD) EN FORMATO WORD Y/O EXCELL EDITABLE
A10: TENGA EN CUENTA : Para mayor información consulte el formato "Instructivo de trámites", en donde aparece indicado como debe diligenciar este formulario en los campos que se encuentran numerados según las disposiciones contempladas en la Resolución 2674 de 2013 Artículo 38, 40 modificado por la Resolución 3168 de 2015)
A11: Presente la documentación en carpeta blanca legajada y foliada (numerada), en carpeta blanca, diligencie , verifique la normatividad sanitaria aplicable a su producto y las disposiciones establecidas en la Resolución 2674 de 2013 modificada por la Resolución 3168 de 2015 y Resolución 719 de 2015.
A12: Diligencie los espacios sombreados según corresponda, sin tachaduras ni enmendaduras con letra clara y legible, con tinta de color negro, en computador o máquina de escribir.
A13: Existen algunos campos que tienen listas desplegables
A15: De conformidad con lo dispuesto en el artículo 50 de la Resolución 2674 de 2013, indique el código de asignación de inscripción de la fábrica ( Ver numeral 36 del Instructivo de trámites)
A17: Si no se encuentra inscrito realícelo a través de la pagina web www.invima.gov.co en la ruta: Alimentos y Bebidas/Otros Alimentos y Bebidas/Formatos tramites guias -Otros Alimentos y Bebidas/Formato ûnico de inscripcion de establecimientos y bebidas Web.
A20: INFORMACIÓN PARA RENOVACIONES A LA NORMATIVIDAD VIGENTE (RESOLUCION 2674 DE 2013)
A21: Diligencie la información solicitada
A22: Número de expediente
... A30: INFORMACION TARIFA
A31: Tipo de trámite | C31: Registro Sanitario de Alimentos de Alto Riesgo (Tarifa diferenciada al 90%) (De 21 variedades en adelante) | H31: Descripcion
H33: =VLOOKUP(C31,'IO3'!A3:F26,2,FALSE) -> Registro Sanitario de Alimentos de Alto Riesgo (Variedades de 1 a 10) (Mas 57,30 UVB Variedades de 11 a 20) o (Mas 152,85 UVB Variedades de 21 en adelante). Tarifa Diferenciada del 90% en el marco del parágrafo 1 del Art. 2 de la Ley 2069 de 2020 y del artículo 5 del Decreto 1889 de 2021. Aplicable a mediana empresa cuyos ingresos por actividades ordinarias anuales sean superiores a Sector Manufactura 1.226.041 e inferiores o iguales a 1.736.565 UVT Sector comercio 1.584.194 e inferiores o iguales a 2.160.692 UVT Sector servicios 366.007 e inferiores o iguales a 483.034 UVT
A38: Codigo de la tarifa | B38: =VLOOKUP(C31,'IO3'!A3:F26,4,FALSE) -> 92114 | D38: UVB | E38: =VLOOKUP(C31,'IO3'!A3:F26,5,FALSE) -> 783.26
D40: VALOR | E40: =VLOOKUP(C31,'IO3'!A3:F26,6,FALSE) -> 8577480
A42: 1. DATOS DEL PRODUCTO
A43: Modalidad del Registro Sanitario (Ver numeral 5 del instructivo): | I43: Seleccione
A45: Nombre del producto (Ver numeral 6 del Instructivo ): (Nota: si el nombre es muy extenso, indicarlo en una hoja anexa al formulario y debe ser igual al declarado en la ficha técnica)
A47: Marca(s) Ver numeral (23) del Instructivo de trámites: (Nota: Si los términos marcarios exceden el espacio del campo indicarlo en una hoja anexa al formulario, debiendo coincidir con lo declarado en la Ficha Técnica)
A50: 1. INFORMACION GENERAL
A52: TITULAR (es) | F52: NIT | H52: TELEFONO | I52: UBICACIÓN (DIRECCIÓN/CIUDAD/PAIS)
A56: FABRICANTE (es) | F56: NIT | H56: TELEFONO | I56: UBICACIÓN (DIRECCIÓN/CIUDAD/PAIS)
A61: ENVASADOR (es) | F61: NIT | H61: TELEFONO | I61: UBICACIÓN (DIRECCIÓN/CIUDAD/PAIS)
A64: IMPORTADOR (es) | F64: NIT | H64: TELEFONO | I64: UBICACIÓN (DIRECCIÓN/CIUDAD/PAIS)
A69: Nota: Adicione una linea para incluir otro importador y/o fabricante
A70: 2. DOCUMENTACION SOPORTE (orden de foliado) Allegar documentación debidamente foliada (enumerada) tomando como primer folio la consignación, los documentos deben venir foliados (numerados) en la parte superior derecha de la hoja y archivados en carpeta blanca con gancho legajador plástico. Si requiere presentar información mediante anexos, indique el número correspondiente del folio
A71: PRODUCTOS NACIONALES | H71: PRODUCTOS IMPORTADOS
A72: 1, Recibo de pago (consignación original) o constancia de la consignación (Ver numeral 2-3 del Instructivo) | H72: 1, Recibo de pago (consignación original) o constancia de la consignación (Ver numeral 2-3 del Instructivo)
A73: 2, Formulario de información básica y formulario de expedición de registro sanitario/ permiso sanitario / notificación sanitaria debidamente diligenciado | H73: 2, Formulario de información básica y formulario de expedición de registro sanitario/ permiso sanitario / notificación sanitaria debidamente diligenciado
A74: 3, Ficha técnica por variedad de producto(Ver numeral 6, 7, 8, 9, 11, 12, 13, 14 (opcional), 25, 26, 27 del instructivo); es necesario que si el producto usa "aditivos alimentarios" debe informar el DMU (Dosis máxima de uso) - consulte la normatividad sanitaria vigente en materia de uso de Aditivos Alimentarios. Tenga en cuenta que dentro de la información soporte del Registro Sanitario, Permiso Sanitario o Notificación Sanitaria, no se contempla lo relativo a tablas nutricionales y etiquetas, razón por la cual, si dado el caso se adjunta esta información, la Administración no emitirá pronunciamiento al respecto. | H74: 3, Ficha técnica por variedad de producto (Ver numerales 6, 7, 8, 9, 11, 12, 13, 14 (opcional), 25, 26, 27 del instructivo) es necesario que si el producto usa "aditivos alimentarios" debe informar el DMU (Dosis máxima de uso) - consulte la normatividad sanitaria vigente en materia de uso de Aditivos Alimentarios. Tenga en cuenta que dentro de la información soporte del Registro Sanitario, Permiso Sanitario o Notificación Sanitaria, no se contempla lo relativo a tablas nutricionales y etiquetas, razón por la cual, si dado el caso se adjunta esta información, la Administración no emitirá pronunciamiento al respecto.
A75: 4, Poder para actuar, si actúa mediante apoderado (Ver numeral 4 del instructivo) | H75: 4, Certificado de venta libre del país de orígen (Ver numeral 16 del instructivo)
H76: 5, Carta de autorización del fabricante al importador (Ver numeral 17 del instructivo)
H77: 6, Poder para actuar, si actúa mediante apoderado (Ver numeral 4 del instructivo)
A78: Declaro que conozco y acato los reglamentos sanitarios vigentes que regulan las condiciones sanitarias de las fábricas de productos alimenticios y del producto para el cual solicito el Registro Sanitario / Permiso Sanitario / Notificación Sanitaria.
A80: Firma: (19) | J80: C.C.
...

Sheet Solicitud Permiso Sanitario
C1: =Instructivo!C1 -> ASEGURAMIENTO SANITARIO | I1: =Instructivo!H1 -> REGISTROS SANITARIOS Y TRAMITES ASOCIADOS | O1: √
C2: =Instructivo!C2 -> FORMATO ÚNICO DE ALIMENTOS REGISTROS SANITARIOS o PERMISO SANITARIO o NOTIFICACIÓN SANITARIA Y TRAMITES ASOCIADOS (Resolución 2674 de 2013, Resolución 3168 de 2015)
C3: =Instructivo!C3 -> Código: ASS-RSA-FM099 | H3: =Instructivo!G3 -> Versión: 08 | J3: =Instructivo!I3 -> Fecha de Emisión: 2024-06-30
A6: FORMULARIO DE EXPEDICION DE REGISTRO SANITARIO O PERMISO SANITARIO O NOTIFICACION SANITARIA FORMULARIO UNICO DE RENOVACION DE PRODUCTOS ALIMENTICIOS
A8: RECUERDE QUE:
A9: DEBERÁ ALLEGAR LA INFORMACIÓN EN FISICO Y EN MEDIO MAGNETICO (CD) EN FORMATO WORD Y/O EXCELL EDITABLE
A10: TENGA EN CUENTA : Para mayor información consulte el formato "Instructivo de trámites", en donde aparece indicado como debe diligenciar este formulario en los campos que se encuentran numerados según las disposiciones contempladas en la Resolución 2674 de 2013 Artículo 38, 40 modificado por la Resolución 3168 de 2015)
A11: Presente la documentación en carpeta blanca legajada y foliada (numerada), en carpeta blanca, diligencie , verifique la normatividad sanitaria aplicable a su producto y las disposiciones establecidas en la Resolución 2674 de 2013 modificada por la Resolución 3168 de 2015 y Resolución 719 de 2015.
A12: Diligencie los espacios sombreados según corresponda, sin tachaduras ni enmendaduras con letra clara y legible, con tinta de color negro, en computador o máquina de escribir.
A13: Existen algunos campos que tienen listas desplegables
A15: De conformidad con lo dispuesto en el artículo 50 de la Resolución 2674 de 2013, indique el código de asignación de inscripción de la fábrica ( Ver numeral 34 del Instructivo de trámites)
A17: Si no se encuentra inscrito realícelo a través de la pagina web www.invima.gov.co en la ruta: Alimentos y Bebidas/Otros Alimentos y Bebidas/Formatos tramites guias -Otros Alimentos y Bebidas/Formato ûnico de inscripcion de establecimientos y bebidas Web.
A19: INFORMACIÓN PARA RENOVACIONES A LA NORMATIVIDAD VIGENTE (RESOLUCION 2674 DE 2013)
A20: Diligencie la información solicitada
A21: Número de expediente
... A29: INFORMACION TARIFA
A30: Tipo de trámite | C30: Permiso Sanitario de Alimentos de Mediano Riesgo (Desde 21 variedades en adelante) Tarifa Exceptuada | H30: Descripcion
H32: =VLOOKUP(C30,'IO3'!A28:F33,2,FALSE) -> Aplicable a las microempresas definidas en el Decreto 957 de 2019 o la norma que lo modifique o sustituya y las cooperativas, las asociaciones mutuales y las asociaciones agropecuarias, étnicas y campesinas. Exceptuada de pago, en el marco de la resolución 2128 del 2023 “Por la cual se reglamenta el parágrafo 2° del artículo 9° de la Ley 399 de 1997 modificado por el artículo 2° de la Ley 2069 de 2020”.
A37: Codigo de la tarifa | B37: =VLOOKUP(C30,'IO3'!A28:F33,4,FALSE) -> 90140 | D37: UVB | E37: =VLOOKUP(C30,'IO3'!A28:F33,5,FALSE) -> 0
D39: VALOR | E39: =VLOOKUP(C30,'IO3'!A28:F33,6,FALSE) -> 0
A41: 1. DATOS DEL PRODUCTO
A42: Modalidad del Permiso Sanitario (Ver numeral 5 del instructivo): | I42: Seleccione
A44: Nombre del producto (Ver numeral 6 del Instructivo ): (Nota: si el nombre es muy extenso, indicarlo en una hoja anexa al formulario y debe ser igual al declarado en la ficha técnica)
A46: Marca(s) Ver numeral (23) del Instructivo de trámites: (Nota: Si los términos marcarios exceden el espacio del campo indicarlo en una hoja anexa al formulario, debiendo coincidir con lo declarado en la Ficha Técnica)
A49: 1. INFORMACION GENERAL
A51: TITULAR (es) | F51: NIT | H51: TELEFONO | I51: UBICACIÓN (DIRECCIÓN/CIUDAD/PAIS)
A55: FABRICANTE (es) | F55: NIT | H55: TELEFONO | I55: UBICACIÓN (DIRECCIÓN/CIUDAD/PAIS)
A60: ENVASADOR (es) | F60: NIT | H60: TELEFONO | I60: UBICACIÓN (DIRECCIÓN/CIUDAD/PAIS)
A63: IMPORTADOR (es) | F63: NIT | H63: TELEFONO | I63: UBICACIÓN (DIRECCIÓN/CIUDAD/PAIS)
A68: Nota: Adicione una linea para incluir otro importador y/o fabricante
A69: 2. DOCUMENTACION SOPORTE (orden de foliado) Allegar documentación debidamente foliada (enumerada) tomando como primer folio la consignación, los documentos deben venir foliados (numerados) en la parte superior derecha de la hoja y archivados en carpeta blanca con gancho legajador plástico. Si requiere presentar información mediante anexos, indique el número correspondiente del folio
A70: PRODUCTOS NACIONALES | H70: PRODUCTOS IMPORTADOS
A71: 1, Recibo de pago (consignación original) o constancia de la consignación (Ver numeral 2-3 del Instructivo) | H71: 1, Recibo de pago (consignación original) o constancia de la consignación (Ver numeral 2-3 del Instructivo)
A72: 2, Formulario de información básica y formulario de expedición de registro sanitario/ permiso sanitario / notificación sanitaria debidamente diligenciado | H72: 2, Formulario de información básica y formulario de expedición de registro sanitario/ permiso sanitario / notificación sanitaria debidamente diligenciado
A73: 3, Ficha técnica por variedad de producto(Ver numeral 6, 7, 8, 9, 11, 12, 13, 14 (opcional), 25, 26, 27 del instructivo); es necesario que si el producto usa "aditivos alimentarios" debe informar el DMU (Dosis máxima de uso) - consulte la normatividad sanitaria vigente en materia de uso de Aditivos Alimentarios. Tenga en cuenta que dentro de la información soporte del Registro Sanitario, Permiso Sanitario o Notificación Sanitaria, no se contempla lo relativo a tablas nutricionales y etiquetas, razón por la cual, si dado el caso se adjunta esta información, la Administración no emitirá pronunciamiento al respecto. | H73: 3, Ficha técnica por variedad de producto (Ver numerales 6, 7, 8, 9, 11, 12, 13, 14 (opcional), 25, 26, 27 del instructivo) es necesario que si el producto usa "aditivos alimentarios" debe informar el DMU (Dosis máxima de uso) - consulte la normatividad sanitaria vigente en materia de uso de Aditivos Alimentarios. Tenga en cuenta que dentro de la información soporte del Registro Sanitario, Permiso Sanitario o Notificación Sanitaria, no se contempla lo relativo a tablas nutricionales y etiquetas, razón por la cual, si dado el caso se adjunta esta información, la Administración no emitirá pronunciamiento al respecto.
A74: 4, Poder para actuar, si actúa mediante apoderado (Ver numeral 4 del instructivo) | H74: 4, Certificado de venta libre del país de orígen (Ver numeral 16 del instructivo)
H75: 5, Carta de autorización del fabricante al importador (Ver numeral 17 del instructivo)
H76: 6, Poder para actuar, si actúa mediante apoderado (Ver numeral 4 del instructivo)
A77: Declaro que conozco y acato los reglamentos sanitarios vigentes que regulan las condiciones sanitarias de las fábricas de productos alimenticios y del producto para el cual solicito el Registro Sanitario / Permiso Sanitario / Notificación Sanitaria.
A79: Firma: (19) | J79: C.C.
...

Sheet Solicitud Notificacion Sanitari
C1: =Instructivo!C1 -> ASEGURAMIENTO SANITARIO | I1: =Instructivo!H1 -> REGISTROS SANITARIOS Y TRAMITES ASOCIADOS | O1: √
C2: =Instructivo!C2 -> FORMATO ÚNICO DE ALIMENTOS REGISTROS SANITARIOS o PERMISO SANITARIO o NOTIFICACIÓN SANITARIA Y TRAMITES ASOCIADOS (Resolución 2674 de 2013, Resolución 3168 de 2015)
C3: =Instructivo!C3 -> Código: ASS-RSA-FM099 | H3: =Instructivo!G3 -> Versión: 08 | J3: =Instructivo!I3 -> Fecha de Emisión: 2024-06-30
A6: FORMULARIO DE EXPEDICION DE REGISTRO SANITARIO O PERMISO SANITARIO O NOTIFICACION SANITARIA FORMULARIO UNICO DE RENOVACION DE PRODUCTOS ALIMENTICIOS
A8: RECUERDE QUE:
A9: DEBERÁ ALLEGAR LA INFORMACIÓN EN FISICO Y EN MEDIO MAGNETICO (CD) EN FORMATO WORD Y/O EXCELL EDITABLE
A10: TENGA EN CUENTA : Para mayor información consulte el formato "Instructivo de trámites", en donde aparece indicado como debe diligenciar este formulario en los campos que se encuentran numerados según las disposiciones contempladas en la Resolución 2674 de 2013 Artículo 38, 40 modificado por la Resolución 3168 de 2015)
A11: Presente la documentación en carpeta blanca legajada y foliada (numerada), en carpeta blanca, diligencie , verifique la normatividad sanitaria aplicable a su producto y las disposiciones establecidas en la Resolución 2674 de 2013 modificada por la Resolución 3168 de 2015 y Resolución 719 de 2015.
A12: Diligencie los espacios sombreados según corresponda, sin tachaduras ni enmendaduras con letra clara y legible, con tinta de color negro, en computador o máquina de escribir.
A13: Existen algunos campos que tienen listas desplegables
A15: De conformidad con lo dispuesto en el artículo 50 de la Resolución 2674 de 2013, indique el código de asignación de inscripción de la fábrica ( Ver numeral 34 del Instructivo de trámites)
A17: Si no se encuentra inscrito realícelo a través de la pagina web www.invima.gov.co en la ruta: Alimentos y Bebidas/Otros Alimentos y Bebidas/Formatos tramites guias -Otros Alimentos y Bebidas/Formato ûnico de inscripcion de establecimientos y bebidas Web.
A20: INFORMACIÓN PARA RENOVACIONES A LA NORMATIVIDAD VIGENTE (RESOLUCION 2674 DE 2013)
A21: Diligencie la información solicitada
A22: Número de expediente
... A30: INFORMACION TARIFA
A31: Tipo de trámite | C31: Notificación Sanitaria de Alimentos "NSA" de Bajo Riesgo (Desde 21 variedades en adelante) Tarifa Exceptuada | H31: Descripcion
H33: =VLOOKUP(C31,'IO3'!A36:F41,2,FALSE) -> Aplicable a microempresas, incluyendo los pequeños productores de acuerdo con la tipificación actual en el marco del Decreto 691 de 2018 y a las microempresas definidas en el Decreto 957 de 2019 o la norma que lo modifique o sustituya y las cooperativas, las asociaciones mutuales y las asociaciones agropecuarias, étnicas y campesinas. Exceptuada de pago, en el marco del parágrafo 2 del Art. 2 de Ley 2069 de 2020 y de la Resolución 2128 del 2023.
A38: Codigo de la tarifa | B38: =VLOOKUP(C31,'IO3'!A36:F41,4,FALSE) -> 90141 | D38: UVB | E38: =VLOOKUP(C31,'IO3'!A36:F42,5,FALSE) -> 0
D40: VALOR | E40: =VLOOKUP(C31,'IO3'!A36:F42,6,FALSE) -> 0
A42: 1. DATOS DEL PRODUCTO
A43: Modalidad de la Notificaciòn Sanitaria (Ver numeral 5 del instructivo): | I43: Seleccione
A45: Nombre del producto (Ver numeral 6 del Instructivo ): (Nota: si el nombre es muy extenso, indicarlo en una hoja anexa al formulario y debe ser igual al declarado en la ficha técnica)
A47: Marca(s) Ver numeral (23) del Instructivo de trámites: (Nota: Si los términos marcarios exceden el espacio del campo indicarlo en una hoja anexa al formulario, debiendo coincidir con lo declarado en la Ficha Técnica)
A50: 1. INFORMACION GENERAL
A52: TITULAR (es) | F52: NIT | H52: TELEFONO | I52: UBICACIÓN (DIRECCIÓN/CIUDAD/PAIS)
A56: FABRICANTE (es) | F56: NIT | H56: TELEFONO | I56: UBICACIÓN (DIRECCIÓN/CIUDAD/PAIS)
A61: ENVASADOR (es) | F61: NIT | H61: TELEFONO | I61: UBICACIÓN (DIRECCIÓN/CIUDAD/PAIS)
A64: IMPORTADOR (es) | F64: NIT | H64: TELEFONO | I64: UBICACIÓN (DIRECCIÓN/CIUDAD/PAIS)
A69: Nota: Adicione una linea para incluir otro importador y/o fabricante
A70: 2. DOCUMENTACION SOPORTE (orden de foliado) Allegar documentación debidamente foliada (enumerada) tomando como primer folio la consignación, los documentos deben venir foliados (numerados) en la parte superior derecha de la hoja y archivados en carpeta blanca con gancho legajador plástico. Si requiere presentar información mediante anexos, indique el número correspondiente del folio
A71: PRODUCTOS NACIONALES | H71: PRODUCTOS IMPORTADOS
A72: 1, Recibo de pago (consignación original) o constancia de la consignación (Ver numeral 2-3 del Instructivo) | H72: 1, Recibo de pago (consignación original) o constancia de la consignación (Ver numeral 2-3 del Instructivo)
A73: 2, Formulario de información básica y formulario de expedición de registro sanitario/ permiso sanitario / notificación sanitaria debidamente diligenciado | H73: 2, Formulario de información básica y formulario de expedición de registro sanitario/ permiso sanitario / notificación sanitaria debidamente diligenciado
A74: 3, Ficha técnica por variedad de producto(Ver numeral 6, 7, 8, 9, 11, 12, 13, 14 (opcional), 25, 26, 27 del instructivo); es necesario que si el producto usa "aditivos alimentarios" debe informar el DMU (Dosis máxima de uso) - consulte la normatividad sanitaria vigente en materia de uso de Aditivos Alimentarios. Tenga en cuenta que dentro de la información soporte del Registro Sanitario, Permiso Sanitario o Notificación Sanitaria, no se contempla lo relativo a tablas nutricionales y etiquetas, razón por la cual, si dado el caso se adjunta esta información, la Administración no emitirá pronunciamiento al respecto. | H74: 3, Ficha técnica por variedad de producto (Ver numerales 6, 7, 8, 9, 11, 12, 13, 14 (opcional), 25, 26, 27 del instructivo) es necesario que si el producto usa "aditivos alimentarios" debe informar el DMU (Dosis máxima de uso) - consulte la normatividad sanitaria vigente en materia de uso de Aditivos Alimentarios. Tenga en cuenta que dentro de la información soporte del Registro Sanitario, Permiso Sanitario o Notificación Sanitaria, no se contempla lo relativo a tablas nutricionales y etiquetas, razón por la cual, si dado el caso se adjunta esta información, la Administración no emitirá pronunciamiento al respecto.
A75: 4, Poder para actuar, si actúa mediante apoderado (Ver numeral 4 del instructivo) | H75: 4, Certificado de venta libre del país de orígen (Ver numeral 16 del instructivo)
H76: 5, Carta de autorización del fabricante al importador (Ver numeral 17 del instructivo)
H77: 6, Poder para actuar, si actúa mediante apoderado (Ver numeral 4 del instructivo)
A78: Declaro que conozco y acato los reglamentos sanitarios vigentes que regulan las condiciones sanitarias de las fábricas de productos alimenticios y del producto para el cual solicito el Registro Sanitario / Permiso Sanitario / Notificación Sanitaria.
A80: Firma: (19) | J80: C.C.
...

Sheet FICHA TECNICA  (Modelo)
C1: =Instructivo!C1 -> ASEGURAMIENTO SANITARIO | H1: =Instructivo!H1 -> REGISTROS SANITARIOS Y TRAMITES ASOCIADOS
C2: =Instructivo!C2 -> FORMATO ÚNICO DE ALIMENTOS REGISTROS SANITARIOS o PERMISO SANITARIO o NOTIFICACIÓN SANITARIA Y TRAMITES ASOCIADOS (Resolución 2674 de 2013, Resolución 3168 de 2015)
C3: =Instructivo!C3 -> Código: ASS-RSA-FM099 | F3: =Instructivo!G3 -> Versión: 08 | I3: =Instructivo!I3 -> Fecha de Emisión: 2024-06-30
A5: FICHA TECNICA DEL PRODUCTO
A6: RECUERDE QUE: DEBERÁ ALLEGAR LA INFORMACIÓN EN FISICO Y EN MEDIO MAGNETICO (CD) EN FORMATO WORD Y/O EXCELL EDITABLE
A8: Presente su documentación sin tachaduras ni enmendaduras, legajada y foliada (numerada), en carpeta blanca, diligencie los formularios con letra clara y legible, con tinta de color negro, en computador o máquina de escribir, verifique la normatividad sanitaria aplicable a su producto y las disposiciones establecidas en la Resolución 2674 de 2013 modificada por la Resolución 3168 de 2015 y Resolución 719 de 2015.
A9: TENGA EN CUENTA : Para mayor información consulte el formato "Instructivo de trámites", en donde aparece indicado como debe diligenciar este formulario en los campos que se encuentran numerados según las disposiciones contempladas en la Resolución 2674 de 2013 Artículo 37, 38, 40 modificado por la Resolución 3168 de 2015
I10: folios
A11: SI REQUIERE PRESENTAR INFORMACIÓN ADICIONAL MEDIANTE ANEXOS, INDIQUE EL NÚMERO CORRESPONDIENTE DEL(OS) FOLIO(S).
A13: A. NOMBRE DEL PRODUCTO ( Ver numeral 6, 14 del Instructivo de trámites):
A17: B. COMPOSICION DEL PRODUCTO EN ORDEN DECRECIENTE Ver numeral (7) del Instructivo de Trámites, tenga en cuenta informar el DMU (Dosis Máxima de Uso) de los aditivos alimentarios si el producto los contiene.
A22: C. PRESENTACIONES COMERCIALES Ver numeral (9) del Instructivo de Trámites:
A26: D. TIPO DE ENVASE Ver numeral (8) del Instructivo de Trámites
A30: E. MATERIAL DE ENVASE Ver numeral (8) del Instructivo de Trámites:
A35: F. CONDICIONES DE CONSERVACION Ver numeral (11) del Instructivo de trámites:
A40: G. TIPO DE TRATAMIENTO (PROCESO DE ELABORACION) Ver numeral (12) del Instructivo de trámites:
A47: H. VIDA UTIL ESTIMADA Ver numeral (13) del Instructivo de trámites:
A51: I. PORCION RECOMENDADA Ver numeral (25) del Instructivo de Trámites.
A54: J. GRUPO POBLACIONAL Ver numeral (26) del Instructivo de Trámites
A57: I. FIRMA DE FICHA TÉCNICA Ver numeral (27) del Instructivo de trámites
A59: Firma del responsable del producto: | E59: JEFE DE PRODUCCION
A62: Nombre del Responsable del producto | G62: Firma:
A67: * Declaro que conozco y acato los reglamentos sanitarios vigentes que regulan las condiciones sanitarias de las fábricas de alimentos y del producto para el cual se solicito el registro / permiso /notificación sanitaria.
A72: REPRESENTANTE LEGAL
A73: JEFE DE PRODUCCION

Sheet MODIFICACIONES AUTOMATICAS
C1: =Instructivo!C1 -> ASEGURAMIENTO SANITARIO | J1: =Instructivo!H1 -> REGISTROS SANITARIOS Y TRAMITES ASOCIADOS | Y1: √
C2: =Instructivo!C2 -> FORMATO ÚNICO DE ALIMENTOS REGISTROS SANITARIOS o PERMISO SANITARIO o NOTIFICACIÓN SANITARIA Y TRAMITES ASOCIADOS (Resolución 2674 de 2013, Resolución 3168 de 2015)
C3: =Instructivo!C3 -> Código: ASS-RSA-FM099 | H3: =Instructivo!G3 -> Versión: 08 | L3: =Instructivo!I3 -> Fecha de Emisión: 2024-06-30
A5: FORMULARIO DE MODIFICACIONES AUTOMÁTICAS
A6: RECUERDE QUE: DEBERÁ ALLEGAR LA INFORMACIÓN EN FISICO Y EN MEDIO MAGNETICO (CD) EN FORMATO WORD Y/O EXCELL EDITABLE
A7: TENGA EN CUENTA : Para mayor información consulte el formato "Instructivo de trámites", en donde aparece indicado como debe diligenciar este formulario en los campos que se encuentran numerados según las disposiciones contempladas en la Resolución 2674 de 2013 Artículo 38, 40 modificado por la Resolución 3168 de 2015)
A8: Presente la documentación en carpeta blanca legajada y foliada (numerada), en carpeta blanca, diligencie , verifique la normatividad sanitaria aplicable a su producto y las disposiciones establecidas en la Resolución 2674 de 2013 modificada por la Resolución 3168 de 2015 y Resolución 719 de 2015.
A9: Diligencie los espacios sombreados según corresponda, sin tachaduras ni enmendaduras con letra clara y legible, con tinta de color negro, en computador o máquina de escribir.
A10: Existen algunos campos que tienen listas desplegables
A12: 1. DATOS GENERALES DEL TITULAR | V12: ANTIOQUIA | Y12: NIT
A13: Nombre o razón social: | V13: ATLANTICO | Y13: MATRICULA MERCANTIL
A14: Documento de Identidad(1): | J14: Cual : | N14: Nº | V14: BOGOTA | Y14: CEDULA DE CIUDADANIA
A15: Dirección: | V15: BOLIVAR | Y15: CEDULA DE EXTRANJERIA
A16: Departamento: | H16: Ciudad: | N16: Pais: | V16: BOYACA | Y16: OTROS
A17: Calidad del titular | D17: Representante legal | K17: Apoderado | V17: CALDAS
A18: Nombre del interesado | L18: Cédula de Ciudadania No. | V18: CAQUETA
A19: Dirección para notificación: | V19: CAUCA
A20: Departamento: | L20: Ciudad: | V20: CESAR
A21: Email(24): | L21: Teléfono(s): | V21: CORDOBA
A22: 2. DATOS DEL PRODUCTO | V22: CUNDINAMARCA
A23: Expediente No. | F23: Registro Sanitario | L23: No. Registro/Permiso o Notificación Sanitaria: | V23: CHOCO
F24: Permiso Sanitario | V24: HUILA
F25: Notificación Sanitaria | V25: LA GUAJIRA
A26: Nombre de producto(6): | L26: Marca:(23) | V26: MAGDALENA
V27: META
V29: N. DE SANTANDER
V30: QUINDIO
A31: INFORMACION TARIFA
A33: Tipo de trámite | C33: Modificación Automática Legal de registro, permiso y notificación sanitaria de alimentos, | J33: Descripcion
J34: =VLOOKUP(C33,'IO3'!A43:E51,2,FALSE) -> Relacionadas únicamente con cambios en el nombre o razón social, dirección, domicilio, cesiones, adiciones o exclusiones de titulares, fabricantes, envasadores e importadores y cambios de modalidad, Aplicable a microempresas, incluyendo los pequeños productores de acuerdo con la tipificación actual en el marco del Decreto 691 de 2018 y a las microempresas definidas en el Decreto 957 de 2019 o la norma que lo modifique o sustituya y las cooperativas, las asociaciones mutuales y las asociaciones agropecuarias, étnicas y campesinas. Exceptuada de pago, en el marco del parágrafo 2 del Art. 2 de Ley 2069 de 2020 y de la Resolución 2128 del 2023.
V36: RISARALDA
V37: SUCRE
A39: Codigo Tarifa | C39: =VLOOKUP(C33,'IO3'!A43:E51,3,FALSE) -> 90111
E40: UVB | F40: =VLOOKUP(C33,'IO3'!A43:E51,4,FALSE) -> 0
E42: VALOR | F42: =VLOOKUP(C33,'IO3'!A43:E51,5,FALSE) -> 0
V43: TOLIMA
A44: 3. TIPO DE ACTUALIZACION | V44: VALLE DEL CAUCA
A45: Seleccione con una (x) el tipo o tipos de modificación del registro sanitario/ permiso sanitario / notificación sanitaria | V45: ARAUCA
K46: CAMBIO | M46: ADICION | V46: CASANARE
J47: Seleccione de la lista de desplegable
...

Sheet A. Mod.  TITULAR
C1: =+Instructivo!C1 -> ASEGURAMIENTO SANITARIO | G1: =+Instructivo!H1 -> REGISTROS SANITARIOS Y TRAMITES ASOCIADOS
C2: =Instructivo!C2 -> FORMATO ÚNICO DE ALIMENTOS REGISTROS SANITARIOS o PERMISO SANITARIO o NOTIFICACIÓN SANITARIA Y TRAMITES ASOCIADOS (Resolución 2674 de 2013, Resolución 3168 de 2015)
C3: =Instructivo!C3 -> Código: ASS-RSA-FM099 | F3: =Instructivo!G3 -> Versión: 08 | H3: =Instructivo!I3 -> Fecha de Emisión: 2024-06-30
A5: GUIA DE DOCUMENTACIÓN SOPORTE
A6: A. MODIFICACION DE TITULAR
A8: Presente su documentación sin tachaduras ni enmendaduras, legajada y foliada (numerada).
A9: Diligencie los formularios con letra clara y legible, con tinta de color negro, en computador o máquina de escribir
A10: Verifique la normatividad sanitaria aplicable a su producto.
A12: DOCUMENTACION SOPORTE | I12: A. Modificacion del Titular
I13: CAMBIO | J13: ADICION
A14: 1 | B14: Formulario de información básica y Formulario de solicitud de modificación diligenciado y firmado por el representante legal o apoderado legalmente constituido | I14: x | J14: x
A15: 2 | B15: Recibo de Pago en original por la tarifa legal correspondiente (3) | I15: x | J15: x
A16: 3 | B16: Poder debidamente otorgado a un abogado solamente, si el titular actúa mediante apoderado.(4) | I16: x | J16: x
A17: 4 | B17: Inscripción del nuevo titular del Registro Sanitario ante la Cámara de Comercio como persona jurídica o persona natural | I17: x | J17: x
A18: 5 | B18: Contrato de Cesión de titularidad identificando plenamente el número de registro sanitario, permiso sanitario o notificación sanitaria, producto, marca, expediente. Ver numeral (19) del Instructivo de trámites | I18: x
A19: 7 | B19: Autorización del fabricante al importador, si es su voluntad nombrar a un tercero (o al importador) como titular del registro sanitario, permiso sanitario o notificación sanitaria del producto en la República de Colombia Ver numeral (17) del Instructivo de trámites | I19: x | J19: x
A20: 8 | B20: Todos los documentos provenientes del exterior deben venir con sello de apostille o con sello de consularización (se hace en el país de origen del producto) y legalización (se hace en el Ministerio de Relaciones Exteriores en Colombia) | I20: x | J20: x
A21: 9 | B21: Todos los documentos provenientes del exterior se deben encontrar vigentes | I21: x | J21: x
A22: 10 | B22: Todos los documentos provenientes del exterior expedidos por autoridad pública expedidos en idioma diferente al castellano,deben venir con traducción oficial según Articulo 251 del Código General del proceso | I22: x | J22: x
A23: Declaro que conozco y acato los reglamentos sanitarios vigentes que regulan las condiciones sanitarias de las fábricas de alimentos y del producto para el cual se solicita la modificación de un registro sanitario /permiso sanitario /notificación sanitaria.

Sheet B. Mod. RAZON SOCIAL
C1: =+Instructivo!C1 -> ASEGURAMIENTO SANITARIO | F1: =+Instructivo!H1 -> REGISTROS SANITARIOS Y TRAMITES ASOCIADOS
C2: ='Solicitud Registro Sanitario'!C2:N2 -> FORMATO ÚNICO DE ALIMENTOS REGISTROS SANITARIOS o PERMISO SANITARIO o NOTIFICACIÓN SANITARIA Y TRAMITES ASOCIADOS (Resolución 2674 de 2013, Resolución 3168 de 2015)
C3: =Instructivo!C3 -> Código: ASS-RSA-FM099 | E3: =Instructivo!G3 -> Versión: 08 | G3: =Instructivo!I3 -> Fecha de Emisión: 2024-06-30
A5: GUIA DE DOCUMENTACIÓN SOPORTE
A6: B. MODIFICACIÓN DE RAZÓN SOCIAL
A8: Presente su documentación sin tachaduras ni enmendaduras, legajada y foliada (numerada).
A9: Diligencie los formularios con letra clara y legible, con tinta de color negro, en computador o máquina de escribir
A10: Verifique la normatividad sanitaria aplicable a su producto.
A12: DOCUMENTACION SOPORTE | G12: B. Modificacion de la razón social
G13: TITULAR | H13: FABRICANTE | I13: IMPORTADOR
A14: 1 | B14: Formulario de información básica y Formulario de solicitud de modificación diligenciado y firmado por el representante legal o apoderado legalmente constituido. | G14: x | H14: x | I14: x
A15: =A14+1 -> 2 | B15: Recibo de Pago en original por la tarifa legal correspondiente (3) | G15: x | H15: x | I15: x
A16: =A15+1 -> 3 | B16: Poder debidamente otorgado a un abogado solamente, si el titular actúa mediante apoderado.(4) | G16: x | H16: x | I16: x
A17: =A16+1 -> 4 | B17: Actualización ante la Cámara de Comercio como persona jurídica o persona natural según sea el caso del titular actual .(15) | G17: x | H17: x | I17: x
A18: 5 | B18: Para personas juridicas ubicadas en el extranjero deberá aportar certificado de cámara y comercio o documento equivalente donde se evidencie la transformación societaria. | G18: x | H18: x
A19: =A18+1 -> 6 | B19: Todos los documentos provenientes del exterior deben venir con sello de apostille o con sello de consularización (se hace en el país de origen del producto) y legalización (se hace en el Ministerio de Relaciones Exteriores en Colombia). | G19: x | H19: x | I19: x
A20: =A19+1 -> 7 | B20: Todos los documentos provenientes del exterior se deben encontrar vigentes | G20: x | H20: x | I20: x
A21: =A20+1 -> 8 | B21: Todos los documentos provenientes del exterior expedidos por autoridad pública expedidos en idioma diferente al castellano,deben venir con traducción oficial según el Articulo 251 del Código General del Proceso. | G21: x | H21: x | I21: x
A22: Declaro que conozco y acato los reglamentos sanitarios vigentes que regulan las condiciones sanitarias de las fábricas de alimentos y del producto para el cual se solicita la modificación de un registro sanitario /permiso sanitario /notificación sanitaria.

Sheet c.  MOD. FABRICANTE
C1: =+Instructivo!C1 -> ASEGURAMIENTO SANITARIO | F1: =+Instructivo!H1 -> REGISTROS SANITARIOS Y TRAMITES ASOCIADOS
C2: =Instructivo!C2 -> FORMATO ÚNICO DE ALIMENTOS REGISTROS SANITARIOS o PERMISO SANITARIO o NOTIFICACIÓN SANITARIA Y TRAMITES ASOCIADOS (Resolución 2674 de 2013, Resolución 3168 de 2015)
C3: =Instructivo!C3 -> Código: ASS-RSA-FM099 | E3: =Instructivo!G3 -> Versión: 08 | G3: =Instructivo!I3 -> Fecha de Emisión: 2024-06-30
A5: GUIA DE DOCUMENTACIÓN SOPORTE
A6: C. MODIFICACION DE FABRICANTE
A8: Presente su documentación sin tachaduras ni enmendaduras, legajada y foliada (numerada).
A9: Diligencie los formularios con letra clara y legible, con tinta de color negro, en computador o máquina de escribir
A10: Verifique la normatividad sanitaria aplicable a su producto.
A12: DOCUMENTACION SOPORTE | H12: C. Modificación de Fabricante
H13: ADICIÓN | I13: CAMBIO
A14: 1 | B14: Formulario de información básica y Formulario de solicitud diligenciado y firmado por el representante legal o apoderado legalmente constituido. | H14: x | I14: x
A15: 2 | B15: Recibo de Pago en original por la tarifa legal correspondiente (3) | H15: x | I15: x
A16: 3 | B16: Poder debidamente otorgado a un abogado solamente, si el titular actúa mediante apoderado.(4) | H16: x | I16: x
A17: 5 | B17: Inscripción del nuevo fabricante ante la Cámara de Comercio como persona jurídica o persona natural según sea el caso (15) | H17: x | I17: x
A18: 6 | B18: Certificado de venta libre, expedido por autoridad sanitaria del país de origen, en el cual conste que el producto se vende libremente en ese país, es apto para el consumo humano y que el fabricante cumple con las normas sanitarias exigida.(16). Lo anterior para productos importados. | H18: x | I18: x
A19: 7 | B19: Autorización del fabricante al importador para importar, distribuir y comercializar el producto en la República de Colombia.(17). Lo anterior para productos importados | H19: x | I19: x
A20: 8 | B20: Todos los documentos provenientes del exterior deben venir con sello de apostille o con sello de consularización (se hace en el país de origen del producto) y legalización (se hace en el Ministerio de Relaciones Exteriores en Colombia). | H20: x | I20: x
A21: 9 | B21: Todos los documentos provenientes del exterior se deben encontrar vigentes. Lo anterior para productos importados | H21: x | I21: x
A22: 10 | B22: Todos los documentos provenientes del exterior expedidos por autoridad pública expedidos en idioma diferente al castellano,deben venir con traducción oficial según según el Articulo 251 del Código General del Proceso. | H22: x | I22: x
A23: 11 | B23: Tener el código de inscripción ante el Invima del nuevo fabricante (Ver numeral 34 del Instructivo de trámites). | H23: x | I23: x
A24: Declaro que conozco y acato los reglamentos sanitarios vigentes que regulan las condiciones sanitarias de las fábricas de alimentos y del producto para el cual se solicita la modificación de un registro sanitario /permiso sanitario /notificación sanitaria.

Sheet d. MOD. EMPACADOR
C1: =+Instructivo!C1 -> ASEGURAMIENTO SANITARIO | F1: =+Instructivo!H1 -> REGISTROS SANITARIOS Y TRAMITES ASOCIADOS
C2: =Instructivo!C2 -> FORMATO ÚNICO DE ALIMENTOS REGISTROS SANITARIOS o PERMISO SANITARIO o NOTIFICACIÓN SANITARIA Y TRAMITES ASOCIADOS (Resolución 2674 de 2013, Resolución 3168 de 2015)
C3: =Instructivo!C3 -> Código: ASS-RSA-FM099 | E3: =+Instructivo!G3 -> Versión: 08 | G3: =+Instructivo!I3 -> Fecha de Emisión: 2024-06-30
A5: GUIA DE DOCUMENTACIÓN SOPORTE
A6: D. MODIFICACION DE EMPACADOR
A8: Presente su documentación sin tachaduras ni enmendaduras, legajada y foliada (numerada).
A9: Diligencie los formularios con letra clara y legible, con tinta de color negro, en computador o máquina de escribir
A10: Verifique la normatividad sanitaria aplicable a su producto.
A12: DOCUMENTACION SOPORTE | G12: D. Modificación de Empacador
G13: ADICIÓN | H13: CAMBIO
A14: 1 | B14: Formulario de información básica y Formulario de solicitud diligenciado y firmado por el representante legal o apoderado legalmente constituido | G14: x | H14: x
A15: =A14+1 -> 2 | B15: Recibo de Pago en original por la tarifa legal correspondiente (3) | G15: x | H15: x
A16: =A15+1 -> 3 | B16: Poder debidamente otorgado a un abogado solamente, si el titular actúa mediante apoderado.(4) | G16: x | H16: x
A17: =A16+1 -> 4 | B17: Inscripción del nuevo empacador ante la Cámara de Comercio como persona jurídica o persona natural según sea el caso (15); | G17: x | H17: x
A18: 5 | B18: Autorización del fabricante al empacador (para la modalidad de importar, empacar y vender). | G18: x | H18: x
A19: Declaro que conozco y acato los reglamentos sanitarios vigentes que regulan las condiciones sanitarias de las fábricas de alimentos y del producto para el cual se solicita la modificación de un registro sanitario /permiso sanitario /notificación sanitaria.

Sheet e.  MOD. UBICACION
C1: =Instructivo!C1 -> ASEGURAMIENTO SANITARIO | G1: =Instructivo!H1 -> REGISTROS SANITARIOS Y TRAMITES ASOCIADOS
C2: =Instructivo!C2 -> FORMATO ÚNICO DE ALIMENTOS REGISTROS SANITARIOS o PERMISO SANITARIO o NOTIFICACIÓN SANITARIA Y TRAMITES ASOCIADOS (Resolución 2674 de 2013, Resolución 3168 de 2015)
C3: =Instructivo!C3 -> Código: ASS-RSA-FM099 | F3: =Instructivo!G3 -> Versión: 08 | H3: =Instructivo!I3 -> Fecha de Emisión: 2024-06-30
A5: GUIA DE DOCUMENTACIÓN SOPORTE
A6: E. MODIFICACION DE UBICACIÓN
A7: Presente su documentación sin tachaduras ni enmendaduras, legajada y foliada (numerada).
A8: Diligencie los formularios con letra clara y legible, con tinta de color negro, en computador o máquina de escribir
A9: Verifique la normatividad sanitaria aplicable a su producto.
A11: DOCUMENTACION SOPORTE | G11: E. Modificación de Ubicación
G12: TITULAR | H12: FABRICANTE | I12: IMPORTADOR
A13: 1 | B13: Formulario de información básica y Formulario de solicitud diligenciado y firmado por el representante legal o apoderado legalmente constituido. | G13: x | H13: x | I13: x
A14: =A13+1 -> 2 | B14: Recibo de Pago en original por la tarifa legal correspondiente (3) | G14: x | H14: x | I14: x
A15: =A14+1 -> 3 | B15: Poder debidamente otorgado a un abogado solamente, si el titular actúa mediante apoderado.(4) | G15: x | H15: x | I15: x
A16: =A15+1 -> 4 | B16: Inscripción del titular o importador ante la Cámara de Comercio como persona jurídica o persona natural según sea el caso (15). Conforme al cambio solicitado. | G16: x | I16: x
A17: 5 | B17: Inscripción de la ubicación del establecimiento de fabricación del producto conforme al cambio solicitado, de conformidad con lo dispuesto en el artículo 50 de la Resolución 2674 de 2013, indique el código de asignación de inscripción de la fábrica | H17: x
A18: =A17+1 -> 6 | B18: Todos los documentos provenientes del exterior deben venir con sello de apostille o con sello de consularización (se hace en el país de origen del producto) y legalización (se hace en el Ministerio de Relaciones Exteriores en Colombia). | G18: x | H18: x | I18: x
A19: =A18+1 -> 7 | B19: Todos los documentos provenientes del exterior se deben encontrar vigentes | G19: x | H19: x | I19: x
A20: 8 | B20: Todos los documentos provenientes del exterior expedidos por autoridad pública expedidos en idioma diferente al castellano,deben venir con traducción oficial según Articulo 251 del Código General del Proceso. | G20: x | H20: x | I20: x
A21: Tenga en cuenta lo descrito en el Articulo 6 de la Resolución número 2674 de 2013.
A22: Declaro que conozco y acato los reglamentos sanitarios vigentes que regulan las condiciones sanitarias de las fábricas de alimentos y del producto para el cual se solicita el registro sanitario.

Sheet f. MOD.IMPORTADOR
